BEGIN:VCALENDAR
VERSION:2.0
PRODID:-//Atty's Gym//NL
CALSCALE:GREGORIAN
BEGIN:VEVENT
UID:road-to-ifp@attysgym.nl@attysgym.nl
DTSTAMP:20260422T040100Z
DTSTART:20260606T120000Z
DTEND:20260606T160000Z
SUMMARY:Road to IFP · Atty's Gym
DESCRIPTION:Road to IFP — presented by Local Heroes & Atty's Gym. On June 6\, 2026\, Wierden becomes the stage for the next generation of fighters. Rising K-1 talents\, high-stakes matchups\, and pure intensity. Road to IFP delivers explosive fights\, raw ambition and unforgettable moments inside the ring. In collaboration with Local Heroes\, IFP continues to build a powerful platform where young fighters gain exposure and take the next step toward the international stage.
LOCATION:Sporthal 'n Dikken\, Dikkensweg 1\, 7641 VZ Wierden
URL:https://www.attysgym.nl/events/road-to-ifp
END:VEVENT
END:VCALENDAR